BEGIN:VCALENDAR
VERSION:2.0
PRODID:-//Super Equity - ECPv4.2.7//NONSGML v1.0//EN
CALSCALE:GREGORIAN
METHOD:PUBLISH
X-WR-CALNAME:Super Equity
X-ORIGINAL-URL:http://superequity.com.au
X-WR-CALDESC:Events for Super Equity
BEGIN:VEVENT
DTSTART;TZID=UTC+0:20180207T180000
DTEND;TZID=UTC+0:20180207T210000
DTSTAMP:20180225T143812
CREATED:20160331T065717
LAST-MODIFIED:20180128T060403
UID:362-1518026400-1518037200@superequity.com.au
SUMMARY:Introduction to the Stockmarket
DESCRIPTION:\nTake the first step towards a greater understanding of the inner workings of the stockmarket with this 6 week Introduction to the Stockmarket course.  Learn the processes & resources that industry professionals use on a day to day basis when making investment decisions.This course is for beginners\, so no prior knowledge is required.\nIntroduction to the Stockmarket\nStarting with the basics and progressing onto investment analysis\, this course will ensure students have a solid understanding about what drives the Stock Market and what to look for when making that first investment.
URL:http://superequity.com.au/workshops/introduction-to-the-stockmarket-2/
LOCATION:91 - 99 Scarborough Street\, Southport\, Queensland\, 4215\, Australia
CATEGORIES:Education
ORGANIZER;CN="Tracy%20Askew":MAILTO:tracy@superequity.com.au
END:VEVENT
END:VCALENDAR